BEGIN:VCALENDAR
VERSION:2.0
PRODID:-//hacksw/handcal//NONSGML v1.0//EN
BEGIN:VEVENT
SUMMARY:Tir aux Pommes QUEVEN
UID:4cb7a42e-e39b-4e60-ba21-e325be7b5a09
DTSTART:20260411T220000Z
DTEND:20260412T220000Z
LOCATION:Localisation   
CATEGORIES:Manifestation
STATUS:
URL;VALUE=URI:https://www.archersdesaintherblain.fr/evenements/2026/04/12/tir-aux-pommes-queven-2433980
END:VEVENT
END:VCALENDAR
