BEGIN:VCALENDAR
VERSION:2.0
PRODID:-//hacksw/handcal//NONSGML v1.0//EN
BEGIN:VEVENT
SUMMARY:Tir Campagne la TURBALLE
UID:034d19ef-a078-4cf7-93f2-5525bcf54851
DTSTART:20260522T220000Z
DTEND:20260524T220000Z
LOCATION:Localisation   
CATEGORIES:Sportif
STATUS:
URL;VALUE=URI:https://www.archersdesaintherblain.fr/evenements/2026/05/23/tir-campagne-la-turballe-2434236
END:VEVENT
END:VCALENDAR
